Workbook

Sheet Weekly budget worksheet
A1: Budget Worksheet
A2: Date:
A3: Name: | F3: Note:
A4: Address: | F4: - Monthly to Weekly x 12 ÷ 52
F5: - Annual to Weekly ÷ 52
A7: INCOME (weekly, net after tax) | F7: Monthly Expenses | I7: Monthly | J7: Weekly
A8: Salary / wages | F8: Bank fees | J8: =(I8)*12/52 -> 0
A9: Partner's income | F9: House mortgage | J9: =(I9)*12/52 -> 0
A10: Working for Families assistance | F10: Electricity | J10: =(I10)*12/52 -> 0
A11: Child support | F11: Gas | J11: =(I11)*12/52 -> 0
A12: Benefit (before deductions) | F12: Phone | J12: =(I12)*12/52 -> 0
A13: Family Tax Credit | F13: Mobile phone | J13: =(I13)*12/52 -> 0
A14: Accommodation supplement | F14: Internet | J14: =(I14)*12/52 -> 0
A15: Disability / Child Disability | F15: Pay TV | J15: =(I15)*12/52 -> 0
A16: Temporary Additional Support (TAS) | F16: Appliance rental | J16: =(I16)*12/52 -> 0
A17: Student Loan / Allowance | F17: Credit contracts | J17: =(I17)*12/52 -> 0
A18: ACC | F18: Credit / store cards | J18: =(I18)*12/52 -> 0
A19: Superannuation / Pension | F19: Personal loans | J19: =(I19)*12/52 -> 0
A20: Rent / board | F20: Other monthly costs | J20: =(I20)*12/52 -> 0
A21: Other earnings | J21: =(I21)*12/52 -> 0
C22: TOTAL INCOME | D22: =SUM(D8:E21) -> 0 | J22: =(I22)*12/52 -> 0
A23: TOTAL (1) | B23: =D69 -> 0 | J23: =(I23)*12/52 -> 0
J24: =(I24)*12/52 -> 0
A25: TOTAL (2) | B25: =J30 -> 0 | J25: =(I25)*12/52 -> 0
J26: =(I26)*12/52 -> 0
A27: TOTAL (3) | B27: =J52 -> 0 | J27: =(I27)*12/52 -> 0
J28: =(I28)*12/52 -> 0
A29: TOTAL (4) | B29: =J69 -> 0 | J29: =(I29)*12/52 -> 0
H30: TOTAL (2) | I30: =SUM(I8:I29) -> 0 | J30: =SUM(J8:K29) -> 0
A31: TOTAL | B31: =SUM(B23,B25,B27,B29) -> 0
F32: Annual Expenses | I32: Annual | J32: Weekly
C33: TOTAL INCOME | D33: =D22 -> 0 | F33: House insurance | J33: =I33/52 -> 0
F34: Contents insurance | J34: =I34/52 -> 0
C35: Less – TOTAL EXPENSES | D35: =B31 -> 0 | F35: Health / life insurance | J35: =I35/52 -> 0
F36: Vehicle insurance | J36: =I36/52 -> 0
C37: Equals = SURPLUS (DEFICIT) | D37: =D33-D35 -> 0 | F37: Vehicle registration | J37: =I37/52 -> 0
F38: Warrant of Fitness | J38: =I38/52 -> 0
F39: Vehicle maintenance | J39: =I39/52 -> 0
A40: EXPENSES | F40: Road user charges (diesel) | J40: =I40/52 -> 0
A41: Weekly Expenses | D41: Weekly | F41: School fees | J41: =I41/52 -> 0
...

Sheet Weekly cashflow
A1: This is a cashflow forecast. For help completing this, visit your nearest budgeting service (see www.familybudgeting.org.nz) for a full list, or call 0508 BUDGETLINE (283 438).
A2: Type in your income and expenses on the week they occur. This helps you plan for the future, and make sure you have enough in your account to pay bills when they are due.
A3: DATE | C3: ='Weekly budget worksheet'!B2 -> 0 | D3: =C3+7 -> 7 | E3: =D3+7 -> 14 | F3: =E3+7 -> 21 | G3: =F3+7 -> 28 | H3: =G3+7 -> 35 | I3: =H3+7 -> 42 | J3: =I3+7 -> 49 | K3: =J3+7 -> 56 | ... BB3: =BA3+7 -> 357
A4: WEEK # | C4: 1 | D4: 2 | E4: 3 | F4: 4 | G4: 5 | H4: 6 | I4: 7 | J4: 8 | K4: 9 | L4: 10 | M4: 11 | N4: 12 | O4: 13 | P4: 14 | Q4: 15 | R4: 16 | S4: 17 | T4: 18 | U4: 19 | V4: 20 | W4: 21 | X4: 22 | Y4: 23 | Z4: 24 | AA4: 25 | AB4: 26 | AC4: 27 | AD4: 28 | AE4: 29 | AF4: 30 | AG4: 31 | AH4: 32 | AI4: 33 | AJ4: 34 | AK4: 35 | AL4: 36 | AM4: 37 | AN4: 38 | AO4: 39 | AP4: 40 | AQ4: 41 | AR4: 42 | AS4: 43 | AT4: 44 | AU4: 45 | AV4: 46 | AW4: 47 | AX4: 48 | AY4: 49 | AZ4: 50 | BA4: 51 | BB4: 52 | BD4: Year Totals
B5: Balance Brought Forward | D5: =(C22-C88) -> 0 | E5: =(D22-D88) -> 0 | F5: =(E22-E88) -> 0 | G5: =(F22-F88) -> 0 | H5: =(G22-G88) -> 0 | I5: =(H22-H88) -> 0 | J5: =(I22-I88) -> 0 | K5: =(J22-J88) -> 0 | ... BB5: =(BA22-BA88) -> 0
A7: INCOME
A8: ='[1]Weekly budget worksheet'!A8 -> Salary / wages | B8: ='Weekly budget worksheet'!D8 -> 0 | BD8: =SUM(C8:BB8) -> 0
A9: ='[1]Weekly budget worksheet'!A9 -> Partner's income | B9: ='Weekly budget worksheet'!D9 -> 0 | BD9: =SUM(C9:BB9) -> 0
A10: ='[1]Weekly budget worksheet'!A10 -> Working for Families assistance | B10: ='Weekly budget worksheet'!D10 -> 0 | BD10: =SUM(C10:BB10) -> 0
A11: ='[1]Weekly budget worksheet'!A11 -> Child support | B11: ='Weekly budget worksheet'!D11 -> 0 | BD11: =SUM(C11:BB11) -> 0
A12: ='[1]Weekly budget worksheet'!A12 -> Benefit (before deductions) | B12: ='Weekly budget worksheet'!D12 -> 0 | BD12: =SUM(C12:BB12) -> 0
A13: ='[1]Weekly budget worksheet'!A13 -> Family Tax Credit | B13: ='Weekly budget worksheet'!D13 -> 0 | BD13: =SUM(C13:BB13) -> 0
A14: ='[1]Weekly budget worksheet'!A14 -> Accommodation supplement | B14: ='Weekly budget worksheet'!D14 -> 0 | BD14: =SUM(C14:BB14) -> 0
A15: ='[1]Weekly budget worksheet'!A15 -> Disability / Child Disability | B15: ='Weekly budget worksheet'!D15 -> 0 | BD15: =SUM(C15:BB15) -> 0
A16: ='[1]Weekly budget worksheet'!A16 -> Temporary Additional Support (TAS) | B16: ='Weekly budget worksheet'!D16 -> 0 | BD16: =SUM(C16:BB16) -> 0
A17: ='[1]Weekly budget worksheet'!A17 -> Student Loan / Allowance | B17: ='Weekly budget worksheet'!D17 -> 0 | BD17: =SUM(C17:BB17) -> 0
A18: ='[1]Weekly budget worksheet'!A18 -> ACC | B18: ='Weekly budget worksheet'!D18 -> 0 | BD18: =SUM(C18:BB18) -> 0
A19: ='[1]Weekly budget worksheet'!A19 -> Superannuation / Pension | B19: ='Weekly budget worksheet'!D19 -> 0 | BD19: =SUM(C19:BB19) -> 0
... A21: ='[1]Weekly budget worksheet'!A21 -> Other earnings | B21: ='Weekly budget worksheet'!D21 -> 0 | BD21: =SUM(C21:BB21) -> 0
A22: Total Funds | C22: =SUM(C5:C21) -> 0 | D22: =SUM(D5:D21) -> 0 | E22: =SUM(E5:E21) -> 0 | F22: =SUM(F5:F21) -> 0 | G22: =SUM(G5:G21) -> 0 | H22: =SUM(H5:H21) -> 0 | I22: =SUM(I5:I21) -> 0 | J22: =SUM(J5:J21) -> 0 | ... BB22: =SUM(BB5:BB21) -> 0 | BD22: =SUM(C22:BB22) -> 0
A24: EXPENDITURE
A25: ='[1]Weekly budget worksheet'!A41 -> Benefit repayment | B25: ='Weekly budget worksheet'!D42 -> 0 | BD25: =SUM(C25:BB25) -> 0
A26: ='[1]Weekly budget worksheet'!A42 -> IRD payments | B26: ='Weekly budget worksheet'!D43 -> 0 | BD26: =SUM(C26:BB26) -> 0
A27: ='[1]Weekly budget worksheet'!A43 -> Court payments | B27: ='Weekly budget worksheet'!D44 -> 0 | BD27: =SUM(C27:BB27) -> 0
A28: ='[1]Weekly budget worksheet'!A44 -> Child support | B28: ='Weekly budget worksheet'!D45 -> 0 | BD28: =SUM(C28:BB28) -> 0
A29: ='[1]Weekly budget worksheet'!A45 -> Groceries - general | B29: ='Weekly budget worksheet'!D46 -> 0 | BD29: =SUM(C29:BB29) -> 0
A30: ='[1]Weekly budget worksheet'!A46 -> Groceries - other | B30: ='Weekly budget worksheet'!D47 -> 0 | BD30: =SUM(C30:BB30) -> 0
A31: ='[1]Weekly budget worksheet'!A47 -> Rent / board | B31: ='Weekly budget worksheet'!D48 -> 0 | BD31: =SUM(C31:BB31) -> 0
A32: ='[1]Weekly budget worksheet'!A48 -> Petrol / fuel | B32: ='Weekly budget worksheet'!D49 -> 0 | BD32: =SUM(C32:BB32) -> 0
A33: ='[1]Weekly budget worksheet'!A49 -> Fares | B33: ='Weekly budget worksheet'!D50 -> 0 | BD33: =SUM(C33:BB33) -> 0
A34: ='[1]Weekly budget worksheet'!A50 -> Personal cash | B34: ='Weekly budget worksheet'!D51 -> 0 | BD34: =SUM(C34:BB34) -> 0
A35: ='[1]Weekly budget worksheet'!A51 -> Liquor | B35: ='Weekly budget worksheet'!D52 -> 0 | BD35: =SUM(C35:BB35) -> 0
A36: ='[1]Weekly budget worksheet'!A52 -> Tobacco | B36: ='Weekly budget worksheet'!D53 -> 0 | BD36: =SUM(C36:BB36) -> 0
... A45: ='[1]Weekly budget worksheet'!A61 -> Other weekly costs | B45: ='Weekly budget worksheet'!D62 -> 0 | BD45: =SUM(C45:BB45) -> 0
A46: ='[1]Weekly budget worksheet'!F8 -> Bank fees | B46: ='Weekly budget worksheet'!I8 -> 0 | BD46: =SUM(C46:BB46) -> 0
A47: ='[1]Weekly budget worksheet'!F9 -> House mortgage | B47: ='Weekly budget worksheet'!I9 -> 0 | BD47: =SUM(C47:BB47) -> 0
A48: ='[1]Weekly budget worksheet'!F10 -> Electricity | B48: ='Weekly budget worksheet'!I10 -> 0 | BD48: =SUM(C48:BB48) -> 0
A49: ='[1]Weekly budget worksheet'!F11 -> Gas | B49: ='Weekly budget worksheet'!I11 -> 0 | BD49: =SUM(C49:BB49) -> 0
A50: ='[1]Weekly budget worksheet'!F12 -> Phone | B50: ='Weekly budget worksheet'!I12 -> 0 | BD50: =SUM(C50:BB50) -> 0
A51: ='[1]Weekly budget worksheet'!F13 -> Mobile phone | B51: ='Weekly budget worksheet'!I13 -> 0 | BD51: =SUM(C51:BB51) -> 0
...

Sheet Fortnightly budget worksheet
A1: Budget Worksheet
A2: Date:
A3: Name: | F3: Note:
A4: Address: | F4: - Monthly to Fortnightly x 12 ÷ 26
F5: - Annual to Fornightly ÷ 26
A7: INCOME (fortnightly, net after tax) | F7: Monthly Expenses | I7: Monthly | K7: Fornightly
A8: Salary / wages | F8: Bank fees | K8: =(I8)*12/26 -> 0
A9: Partner's income | F9: House mortgage | K9: =(I9)*12/26 -> 0
A10: Working for Families assistance | F10: Electricity | K10: =(I10)*12/26 -> 0
A11: Child support | F11: Gas | K11: =(I11)*12/26 -> 0
A12: Benefit (before deductions) | F12: Phone | K12: =(I12)*12/26 -> 0
A13: Family Tax Credit | F13: Mobile phone | K13: =(I13)*12/26 -> 0
A14: Accommodation supplement | F14: Internet | K14: =(I14)*12/26 -> 0
A15: Disability / Child Disability | F15: Pay TV | K15: =(I15)*12/26 -> 0
A16: Temporary Additional Support (TAS) | F16: Appliance rental | K16: =(I16)*12/26 -> 0
A17: Student Loan / Allowance | F17: Credit contracts | K17: =(I17)*12/26 -> 0
A18: ACC | F18: Credit / store cards | K18: =(I18)*12/26 -> 0
A19: Superannuation / Pension | F19: Personal loans | K19: =(I19)*12/26 -> 0
A20: Rent / board | F20: Other monthly costs | K20: =(I20)*12/26 -> 0
A21: Other earnings | K21: =(I21)*12/26 -> 0
C22: TOTAL INCOME | D22: =SUM(D8:E21) -> 0 | K22: =(I22)*12/26 -> 0
A23: TOTAL (1) | B23: =D69 -> 0 | K23: =(I23)*12/26 -> 0
K24: =(I24)*12/26 -> 0
A25: TOTAL (2) | B25: =K30 -> 0 | K25: =(I25)*12/26 -> 0
K26: =(I26)*12/26 -> 0
A27: TOTAL (3) | B27: =K52 -> 0 | K27: =(I27)*12/26 -> 0
K28: =(I28)*12/26 -> 0
A29: TOTAL (4) | B29: =K69 -> 0 | K29: =(I29)*12/26 -> 0
H30: TOTAL (2) | I30: =SUM(I8:J29) -> 0 | K30: =SUM(K8:L29) -> 0
A31: TOTAL | B31: =SUM(B23,B25,B27,B29) -> 0
F32: Annual Expenses | I32: Annual | K32: Fortnightly
C33: TOTAL INCOME | D33: =D22 -> 0 | F33: House insurance | K33: =I33/26 -> 0
F34: Contents insurance | K34: =I34/26 -> 0
C35: Less – TOTAL EXPENSES | D35: =B31 -> 0 | F35: Health / life insurance | K35: =I35/26 -> 0
F36: Vehicle insurance | K36: =I36/26 -> 0
C37: Equals = SURPLUS (DEFICIT) | D37: =D33-D35 -> 0 | F37: Vehicle registration | K37: =I37/26 -> 0
F38: Warrant of Fitness | K38: =I38/26 -> 0
F39: Vehicle maintenance | K39: =I39/26 -> 0
A40: EXPENSES | F40: Road user charges (diesel) | K40: =I40/26 -> 0
A41: Fortnightly Expenses | D41: Fortnightly | F41: School fees | K41: =I41/26 -> 0
...

Sheet Fortnightly cashflow
A1: This is a cashflow forecast. For help completing this, visit your nearest budgeting service (see www.familybudgeting.org.nz) for a full list, or call 0508 BUDGETLINE (283 438).
A2: Type in your income and expenses on the week they occur. This helps you plan for the future, and make sure you have enough in your account to pay bills when they are due.
A3: DATE | C3: ='Fortnightly budget worksheet'!B2 -> 0 | D3: =C3+14 -> 14 | E3: =D3+14 -> 28 | F3: =E3+14 -> 42 | G3: =F3+14 -> 56 | H3: =G3+14 -> 70 | I3: =H3+14 -> 84 | J3: =I3+14 -> 98 | K3: =J3+14 -> 112 | ... AB3: =AA3+14 -> 350
A4: WEEK # | C4: 1 | D4: 2 | E4: 3 | F4: 4 | G4: 5 | H4: 6 | I4: 7 | J4: 8 | K4: 9 | L4: 10 | M4: 11 | N4: 12 | O4: 13 | P4: 14 | Q4: 15 | R4: 16 | S4: 17 | T4: 18 | U4: 19 | V4: 20 | W4: 21 | X4: 22 | Y4: 23 | Z4: 24 | AA4: 25 | AB4: 26 | AD4: Year Totals
B5: Balance Brought Forward | D5: =(C22-C88) -> 0 | E5: =(D22-D88) -> 0 | F5: =(E22-E88) -> 0 | G5: =(F22-F88) -> 0 | H5: =(G22-G88) -> 0 | I5: =(H22-H88) -> 0 | J5: =(I22-I88) -> 0 | K5: =(J22-J88) -> 0 | ... AB5: =(AA22-AA88) -> 0
A7: INCOME
A8: ='[1]Weekly budget worksheet'!A8 -> Salary / wages | B8: ='Fortnightly budget worksheet'!D8 -> 0 | AD8: =SUM(C8:AB8) -> 0
A9: ='[1]Weekly budget worksheet'!A9 -> Partner's income | B9: ='Fortnightly budget worksheet'!D9 -> 0 | AD9: =SUM(C9:AB9) -> 0
A10: ='[1]Weekly budget worksheet'!A10 -> Working for Families assistance | B10: ='Fortnightly budget worksheet'!D10 -> 0 | AD10: =SUM(C10:AB10) -> 0
A11: ='[1]Weekly budget worksheet'!A11 -> Child support | B11: ='Fortnightly budget worksheet'!D11 -> 0 | AD11: =SUM(C11:AB11) -> 0
A12: ='[1]Weekly budget worksheet'!A12 -> Benefit (before deductions) | B12: ='Fortnightly budget worksheet'!D12 -> 0 | AD12: =SUM(C12:AB12) -> 0
A13: ='[1]Weekly budget worksheet'!A13 -> Family Tax Credit | B13: ='Fortnightly budget worksheet'!D13 -> 0 | AD13: =SUM(C13:AB13) -> 0
A14: ='[1]Weekly budget worksheet'!A14 -> Accommodation supplement | B14: ='Fortnightly budget worksheet'!D14 -> 0 | AD14: =SUM(C14:AB14) -> 0
A15: ='[1]Weekly budget worksheet'!A15 -> Disability / Child Disability | B15: ='Fortnightly budget worksheet'!D15 -> 0 | AD15: =SUM(C15:AB15) -> 0
A16: ='[1]Weekly budget worksheet'!A16 -> Temporary Additional Support (TAS) | B16: ='Fortnightly budget worksheet'!D16 -> 0 | AD16: =SUM(C16:AB16) -> 0
A17: ='[1]Weekly budget worksheet'!A17 -> Student Loan / Allowance | B17: ='Fortnightly budget worksheet'!D17 -> 0 | AD17: =SUM(C17:AB17) -> 0
A18: ='[1]Weekly budget worksheet'!A18 -> ACC | B18: ='Fortnightly budget worksheet'!D18 -> 0 | AD18: =SUM(C18:AB18) -> 0
A19: ='[1]Weekly budget worksheet'!A19 -> Superannuation / Pension | B19: ='Fortnightly budget worksheet'!D19 -> 0 | AD19: =SUM(C19:AB19) -> 0
... A21: ='[1]Weekly budget worksheet'!A21 -> Other earnings | B21: ='Fortnightly budget worksheet'!D21 -> 0 | AD21: =SUM(C21:AB21) -> 0
A22: Total Funds | C22: =SUM(C5:C21) -> 0 | D22: =SUM(D5:D21) -> 0 | E22: =SUM(E5:E21) -> 0 | F22: =SUM(F5:F21) -> 0 | G22: =SUM(G5:G21) -> 0 | H22: =SUM(H5:H21) -> 0 | I22: =SUM(I5:I21) -> 0 | J22: =SUM(J5:J21) -> 0 | ... AB22: =SUM(AB5:AB21) -> 0 | AD22: =SUM(C22:AB22) -> 0
A24: EXPENDITURE
A25: ='[1]Weekly budget worksheet'!A41 -> Benefit repayment | B25: ='Fortnightly budget worksheet'!D42 -> 0 | AD25: =SUM(C25:AB25) -> 0
A26: ='[1]Weekly budget worksheet'!A42 -> IRD payments | B26: ='Fortnightly budget worksheet'!D43 -> 0 | AD26: =SUM(C26:AB26) -> 0
A27: ='[1]Weekly budget worksheet'!A43 -> Court payments | B27: ='Fortnightly budget worksheet'!D44 -> 0 | AD27: =SUM(C27:AB27) -> 0
A28: ='[1]Weekly budget worksheet'!A44 -> Child support | B28: ='Fortnightly budget worksheet'!D45 -> 0 | AD28: =SUM(C28:AB28) -> 0
A29: ='[1]Weekly budget worksheet'!A45 -> Groceries - general | B29: ='Fortnightly budget worksheet'!D46 -> 0 | AD29: =SUM(C29:AB29) -> 0
A30: ='[1]Weekly budget worksheet'!A46 -> Groceries - other | B30: ='Fortnightly budget worksheet'!D47 -> 0 | AD30: =SUM(C30:AB30) -> 0
A31: ='[1]Weekly budget worksheet'!A47 -> Rent / board | B31: ='Fortnightly budget worksheet'!D48 -> 0 | AD31: =SUM(C31:AB31) -> 0
A32: ='[1]Weekly budget worksheet'!A48 -> Petrol / fuel | B32: ='Fortnightly budget worksheet'!D49 -> 0 | AD32: =SUM(C32:AB32) -> 0
A33: ='[1]Weekly budget worksheet'!A49 -> Fares | B33: ='Fortnightly budget worksheet'!D50 -> 0 | AD33: =SUM(C33:AB33) -> 0
A34: ='[1]Weekly budget worksheet'!A50 -> Personal cash | B34: ='Fortnightly budget worksheet'!D51 -> 0 | AD34: =SUM(C34:AB34) -> 0
A35: ='[1]Weekly budget worksheet'!A51 -> Liquor | B35: ='Fortnightly budget worksheet'!D52 -> 0 | AD35: =SUM(C35:AB35) -> 0
A36: ='[1]Weekly budget worksheet'!A52 -> Tobacco | B36: ='Fortnightly budget worksheet'!D53 -> 0 | AD36: =SUM(C36:AB36) -> 0
... A45: ='[1]Weekly budget worksheet'!A61 -> Other weekly costs | B45: ='Fortnightly budget worksheet'!D62 -> 0 | AD45: =SUM(C45:AB45) -> 0
A46: ='[1]Weekly budget worksheet'!F8 -> Bank fees | B46: ='Fortnightly budget worksheet'!I8 -> 0 | AD46: =SUM(C46:AB46) -> 0
A47: ='[1]Weekly budget worksheet'!F9 -> House mortgage | B47: ='Fortnightly budget worksheet'!I9 -> 0 | AD47: =SUM(C47:AB47) -> 0
A48: ='[1]Weekly budget worksheet'!F10 -> Electricity | B48: ='Fortnightly budget worksheet'!I10 -> 0 | AD48: =SUM(C48:AB48) -> 0
A49: ='[1]Weekly budget worksheet'!F11 -> Gas | B49: ='Fortnightly budget worksheet'!I11 -> 0 | AD49: =SUM(C49:AB49) -> 0
A50: ='[1]Weekly budget worksheet'!F12 -> Phone | B50: ='Fortnightly budget worksheet'!I12 -> 0 | AD50: =SUM(C50:AB50) -> 0
A51: ='[1]Weekly budget worksheet'!F13 -> Mobile phone | B51: ='Fortnightly budget worksheet'!I13 -> 0 | AD51: =SUM(C51:AB51) -> 0
...
